BEGIN:VCALENDAR
VERSION:2.0
PRODID:-//Town of Galway - ECPv6.15.17.1//NONSGML v1.0//EN
CALSCALE:GREGORIAN
METHOD:PUBLISH
X-WR-CALNAME:Town of Galway
X-ORIGINAL-URL:https://townofgalwayny.gov
X-WR-CALDESC:Events for Town of Galway
REFRESH-INTERVAL;VALUE=DURATION:PT1H
X-Robots-Tag:noindex
X-PUBLISHED-TTL:PT1H
BEGIN:VTIMEZONE
TZID:America/New_York
BEGIN:DAYLIGHT
TZOFFSETFROM:-0500
TZOFFSETTO:-0400
TZNAME:EDT
DTSTART:20250309T070000
END:DAYLIGHT
BEGIN:STANDARD
TZOFFSETFROM:-0400
TZOFFSETTO:-0500
TZNAME:EST
DTSTART:20251102T060000
END:STANDARD
BEGIN:DAYLIGHT
TZOFFSETFROM:-0500
TZOFFSETTO:-0400
TZNAME:EDT
DTSTART:20260308T070000
END:DAYLIGHT
BEGIN:STANDARD
TZOFFSETFROM:-0400
TZOFFSETTO:-0500
TZNAME:EST
DTSTART:20261101T060000
END:STANDARD
BEGIN:DAYLIGHT
TZOFFSETFROM:-0500
TZOFFSETTO:-0400
TZNAME:EDT
DTSTART:20270314T070000
END:DAYLIGHT
BEGIN:STANDARD
TZOFFSETFROM:-0400
TZOFFSETTO:-0500
TZNAME:EST
DTSTART:20271107T060000
END:STANDARD
END:VTIMEZONE
BEGIN:VEVENT
DTSTART;TZID=America/New_York:20260423T170000
DTEND;TZID=America/New_York:20260423T210000
DTSTAMP:20260422T135406
CREATED:20240612T154621Z
LAST-MODIFIED:20251008T133910Z
UID:10000523-1776963600-1776978000@townofgalwayny.gov
SUMMARY:DA Court
DESCRIPTION:
URL:https://townofgalwayny.gov/event/da-court/2026-04-23/
END:VEVENT
BEGIN:VEVENT
DTSTART;TZID=America/New_York:20260424T130000
DTEND;TZID=America/New_York:20260424T143000
DTSTAMP:20260422T135406
CREATED:20241218T200156Z
LAST-MODIFIED:20250415T115807Z
UID:10000907-1777035600-1777041000@townofgalwayny.gov
SUMMARY:Memory Cafe
DESCRIPTION:
URL:https://townofgalwayny.gov/event/memory-cafe/2026-04-24/
END:VEVENT
BEGIN:VEVENT
DTSTART;TZID=America/New_York:20260427T180000
DTEND;TZID=America/New_York:20260427T210000
DTSTAMP:20260422T135406
CREATED:20260408T175530Z
LAST-MODIFIED:20260408T175530Z
UID:10001361-1777312800-1777323600@townofgalwayny.gov
SUMMARY:Comprehensive Plan Meetings
DESCRIPTION:
URL:https://townofgalwayny.gov/event/comprehensive-plan-meetings/2026-04-27/
END:VEVENT
BEGIN:VEVENT
DTSTART;TZID=America/New_York:20260429T190000
DTEND;TZID=America/New_York:20260429T200000
DTSTAMP:20260422T135406
CREATED:20240626T202311Z
LAST-MODIFIED:20241217T123252Z
UID:10000787-1777489200-1777492800@townofgalwayny.gov
SUMMARY:Youth Commission Conference Room
DESCRIPTION:
URL:https://townofgalwayny.gov/event/youth-commission-conference-room/2026-04-29/
END:VEVENT
BEGIN:VEVENT
DTSTART;TZID=America/New_York:20260429T190000
DTEND;TZID=America/New_York:20260429T210000
DTSTAMP:20260422T135406
CREATED:20260304T163504Z
LAST-MODIFIED:20260304T163504Z
UID:10001341-1777489200-1777496400@townofgalwayny.gov
SUMMARY:Change Meeting ZBA
DESCRIPTION:
URL:https://townofgalwayny.gov/event/change-meeting-zba/2026-04-29/
END:VEVENT
END:VCALENDAR